BEGIN:VCALENDAR
VERSION:2.0
PRODID:-//Ville Essarts-en-Bocage - ECPv4.6.1//NONSGML v1.0//EN
CALSCALE:GREGORIAN
METHOD:PUBLISH
X-WR-CALNAME:Ville Essarts-en-Bocage
X-ORIGINAL-URL:https://www.essartsenbocage.fr
X-WR-CALDESC:Events for Ville Essarts-en-Bocage
BEGIN:VEVENT
DTSTART;TZID=Europe/Paris:20190110T190000
DTEND;TZID=Europe/Paris:20190110T233000
DTSTAMP:20260425T031628
CREATED:20181108T115604Z
LAST-MODIFIED:20181108T115618Z
UID:9243-1547146800-1547163000@www.essartsenbocage.fr
SUMMARY:VŒUX DU MAIRE
DESCRIPTION:
URL:https://www.essartsenbocage.fr/evenement/voeux-du-maire-2/
LOCATION:Complexe sportif\, Les Essarts\, 85140\, France
CATEGORIES:Événement public
ORGANIZER;CN="Mairie%20d%27Essarts%20en%20Bocage":MAILTO:mairie-essarts@essartsenbocage.fr
END:VEVENT
END:VCALENDAR