BEGIN:VCALENDAR
VERSION:2.0
PRODID:-//Ville Essarts-en-Bocage - ECPv4.6.1//NONSGML v1.0//EN
CALSCALE:GREGORIAN
METHOD:PUBLISH
X-WR-CALNAME:Ville Essarts-en-Bocage
X-ORIGINAL-URL:https://www.essartsenbocage.fr
X-WR-CALDESC:Events for Ville Essarts-en-Bocage
BEGIN:VEVENT
DTSTART;TZID=Europe/Paris:20240928T140000
DTEND;TZID=Europe/Paris:20240928T160000
DTSTAMP:20260419T171202
CREATED:20240918T080921Z
LAST-MODIFIED:20240918T081225Z
UID:45247-1727532000-1727539200@www.essartsenbocage.fr
SUMMARY:Vente de la boutique solidaire
DESCRIPTION:Vente à tout petit prix de vêtements pour enfants\, adolescents\, femmes et hommes\, jeux et livres pour enfants. Ouvert à tous\, à la salle du Donjon aux Essarts. \n
URL:https://www.essartsenbocage.fr/evenement/vente-de-la-boutique-solidaire/
LOCATION:32 Rue de la Ramée\, Les Essarts\, 85140\, France
CATEGORIES:Braderies / Vide-greniers / Brocantes,Solidarité
ATTACH;FMTTYPE=image/jpeg:https://www.essartsenbocage.fr/wp-content/uploads/2024/09/vêtements-boutique-solidaire.jpg
END:VEVENT
END:VCALENDAR