BEGIN:VCALENDAR
VERSION:2.0
PRODID:-//Ville Essarts-en-Bocage - ECPv4.6.1//NONSGML v1.0//EN
CALSCALE:GREGORIAN
METHOD:PUBLISH
X-WR-CALNAME:Ville Essarts-en-Bocage
X-ORIGINAL-URL:https://www.essartsenbocage.fr
X-WR-CALDESC:Events for Ville Essarts-en-Bocage
BEGIN:VEVENT
DTSTART;TZID=Europe/Paris:20220604T100000
DTEND;TZID=Europe/Paris:20220604T170000
DTSTAMP:20260424T072101
CREATED:20220524T080606Z
LAST-MODIFIED:20220524T080716Z
UID:34858-1654336800-1654362000@www.essartsenbocage.fr
SUMMARY:Tournoi de Volley-Ball
DESCRIPTION:| 21€ SUR PLACE \n \n  \n
URL:https://www.essartsenbocage.fr/evenement/tournoi-de-volley-ball/
LOCATION:Rue du Foyer Rural\, Essarts en Bocage\, 85140\, France
CATEGORIES:Sport
END:VEVENT
END:VCALENDAR