BEGIN:VCALENDAR
VERSION:2.0
PRODID:-//Ville Essarts-en-Bocage - ECPv4.6.1//NONSGML v1.0//EN
CALSCALE:GREGORIAN
METHOD:PUBLISH
X-WR-CALNAME:Ville Essarts-en-Bocage
X-ORIGINAL-URL:https://www.essartsenbocage.fr
X-WR-CALDESC:Events for Ville Essarts-en-Bocage
BEGIN:VEVENT
DTSTART;VALUE=DATE:20220612
DTEND;VALUE=DATE:20220613
DTSTAMP:20260424T123448
CREATED:20220216T132407Z
LAST-MODIFIED:20220216T132607Z
UID:30602-1654992000-1655078399@www.essartsenbocage.fr
SUMMARY:Tournoi de Basket 3×3
DESCRIPTION:
URL:https://www.essartsenbocage.fr/evenement/tournoi-de-basket-3x3/
LOCATION:2 rue des hauteurs\, L'Oie\, 85140
ATTACH;FMTTYPE=image/jpeg:https://www.essartsenbocage.fr/wp-content/uploads/2022/02/BCOC.jpg
ORGANIZER;CN="Basket%20Club%20Oyen%20C%C3%A9cilien":MAILTO:bco0485@gmail.com
END:VEVENT
END:VCALENDAR