BEGIN:VCALENDAR
VERSION:2.0
PRODID:-//Ville Essarts-en-Bocage - ECPv4.6.1//NONSGML v1.0//EN
CALSCALE:GREGORIAN
METHOD:PUBLISH
X-WR-CALNAME:Ville Essarts-en-Bocage
X-ORIGINAL-URL:https://www.essartsenbocage.fr
X-WR-CALDESC:Events for Ville Essarts-en-Bocage
BEGIN:VEVENT
DTSTART;TZID=Europe/Paris:20260117T203000
DTEND;TZID=Europe/Paris:20260117T230000
DTSTAMP:20260421T141510
CREATED:20260108T144629Z
LAST-MODIFIED:20260108T144629Z
UID:60521-1768681800-1768690800@www.essartsenbocage.fr
SUMMARY:Théatre de Boulogne "Noël au balcon"
DESCRIPTION: \n
URL:https://www.essartsenbocage.fr/evenement/theatre-de-boulogne-noel-au-balcon/
LOCATION:Place de l'Eglise - Boulogne\, Essarts en Bocage\, 85140\, France
END:VEVENT
END:VCALENDAR