BEGIN:VCALENDAR
VERSION:2.0
PRODID:-//Ville Essarts-en-Bocage - ECPv4.6.1//NONSGML v1.0//EN
CALSCALE:GREGORIAN
METHOD:PUBLISH
X-WR-CALNAME:Ville Essarts-en-Bocage
X-ORIGINAL-URL:https://www.essartsenbocage.fr
X-WR-CALDESC:Events for Ville Essarts-en-Bocage
BEGIN:VEVENT
DTSTART;VALUE=DATE:20230325
DTEND;VALUE=DATE:20230326
DTSTAMP:20260423T081431
CREATED:20230308T145330Z
LAST-MODIFIED:20230308T145330Z
UID:39714-1679702400-1679788799@www.essartsenbocage.fr
SUMMARY:Sortie au match de Ligue féminine RVBC
DESCRIPTION:
URL:https://www.essartsenbocage.fr/evenement/sortie-au-match-de-ligue-feminine-rvbc/
CATEGORIES:Sport
ORGANIZER;CN="Basket%20Club%20Oyen%20C%C3%A9cilien":MAILTO:bco0485@gmail.com
END:VEVENT
END:VCALENDAR