BEGIN:VCALENDAR
VERSION:2.0
PRODID:-//Ville Essarts-en-Bocage - ECPv4.6.1//NONSGML v1.0//EN
CALSCALE:GREGORIAN
METHOD:PUBLISH
X-WR-CALNAME:Ville Essarts-en-Bocage
X-ORIGINAL-URL:https://www.essartsenbocage.fr
X-WR-CALDESC:Events for Ville Essarts-en-Bocage
BEGIN:VEVENT
DTSTART;TZID=Europe/Paris:20240926T184500
DTEND;TZID=Europe/Paris:20240926T194500
DTSTAMP:20260419T230540
CREATED:20240918T143401Z
LAST-MODIFIED:20240923T100323Z
UID:45246-1727376300-1727379900@www.essartsenbocage.fr
SUMMARY:Réunion de concertation - Espace Paysager La Colline
DESCRIPTION:Votre avis compte ! Participez à la réunion de concertation pour donner votre avis sur le projet d’aménagement de l’espace paysager La Colline.  \n \n
URL:https://www.essartsenbocage.fr/evenement/reunion-publique-projet-sur-le-terrain-de-la-colline/
LOCATION:32 Rue de la Ramée\, Les Essarts\, 85140\, France
CATEGORIES:réunion publique
ORGANIZER;CN="Mairie%20d%27Essarts%20en%20Bocage":MAILTO:mairie-essarts@essartsenbocage.fr
END:VEVENT
END:VCALENDAR