BEGIN:VCALENDAR
VERSION:2.0
PRODID:-//Ville Essarts-en-Bocage - ECPv4.6.1//NONSGML v1.0//EN
CALSCALE:GREGORIAN
METHOD:PUBLISH
X-WR-CALNAME:Ville Essarts-en-Bocage
X-ORIGINAL-URL:https://www.essartsenbocage.fr
X-WR-CALDESC:Events for Ville Essarts-en-Bocage
BEGIN:VEVENT
DTSTART;TZID=Europe/Paris:20190201T080000
DTEND;TZID=Europe/Paris:20190201T170000
DTSTAMP:20260425T013042
CREATED:20190201T090125Z
LAST-MODIFIED:20190201T090125Z
UID:9554-1549008000-1549040400@www.essartsenbocage.fr
SUMMARY:Représentation théatrale
DESCRIPTION: \n
URL:https://www.essartsenbocage.fr/evenement/representation-theatrale/
LOCATION:Place de l'Eglise - Boulogne\, Essarts en Bocage\, 85140\, France
CATEGORIES:spectacles
END:VEVENT
END:VCALENDAR