BEGIN:VCALENDAR
VERSION:2.0
PRODID:-//Ville Essarts-en-Bocage - ECPv4.6.1//NONSGML v1.0//EN
CALSCALE:GREGORIAN
METHOD:PUBLISH
X-WR-CALNAME:Ville Essarts-en-Bocage
X-ORIGINAL-URL:https://www.essartsenbocage.fr
X-WR-CALDESC:Events for Ville Essarts-en-Bocage
BEGIN:VEVENT
DTSTART;TZID=Europe/Paris:20230401T113000
DTEND;TZID=Europe/Paris:20230401T130000
DTSTAMP:20260421T020035
CREATED:20230308T150901Z
LAST-MODIFIED:20230308T150901Z
UID:39743-1680348600-1680354000@www.essartsenbocage.fr
SUMMARY:Portes ouvertes de l'accueil périscolaire de Boulogne
DESCRIPTION:
URL:https://www.essartsenbocage.fr/evenement/portes-ouvertes-de-laccueil-periscolaire-de-boulogne/
LOCATION:place des anciens combattants\, Essarts en Bocage\, 85140\, France
CATEGORIES:Portes ouvertes
ORGANIZER;CN="Mairie%20d%27Essarts%20en%20Bocage":MAILTO:mairie-essarts@essartsenbocage.fr
END:VEVENT
END:VCALENDAR