BEGIN:VCALENDAR
VERSION:2.0
PRODID:-//Ville Essarts-en-Bocage - ECPv4.6.1//NONSGML v1.0//EN
CALSCALE:GREGORIAN
METHOD:PUBLISH
X-WR-CALNAME:Ville Essarts-en-Bocage
X-ORIGINAL-URL:https://www.essartsenbocage.fr
X-WR-CALDESC:Events for Ville Essarts-en-Bocage
BEGIN:VEVENT
DTSTART;VALUE=DATE:20180421
DTEND;VALUE=DATE:20180422
DTSTAMP:20260425T163157
CREATED:20180319T094047Z
LAST-MODIFIED:20180319T094258Z
UID:3688-1524268800-1524355199@www.essartsenbocage.fr
SUMMARY:Nouvel'Air en fête
DESCRIPTION:
URL:https://www.essartsenbocage.fr/evenement/nouvelair-en-fete/
END:VEVENT
END:VCALENDAR