BEGIN:VCALENDAR
VERSION:2.0
PRODID:-//Ville Essarts-en-Bocage - ECPv4.6.1//NONSGML v1.0//EN
CALSCALE:GREGORIAN
METHOD:PUBLISH
X-WR-CALNAME:Ville Essarts-en-Bocage
X-ORIGINAL-URL:https://www.essartsenbocage.fr
X-WR-CALDESC:Events for Ville Essarts-en-Bocage
BEGIN:VEVENT
DTSTART;TZID=Europe/Paris:20230331T163000
DTEND;TZID=Europe/Paris:20230331T193000
DTSTAMP:20260421T040829
CREATED:20221012T123018Z
LAST-MODIFIED:20230308T144729Z
UID:38024-1680280200-1680291000@www.essartsenbocage.fr
SUMMARY:Marché des Saveurs
DESCRIPTION: \n
URL:https://www.essartsenbocage.fr/evenement/marche-des-saveurs-68/
LOCATION:25 Rue du Général de Gaulle\, Les Essarts\, 85140\, France
CATEGORIES:Foires et marchés
ATTACH;FMTTYPE=image/jpeg:https://www.essartsenbocage.fr/wp-content/uploads/2018/01/573.jpg
ORGANIZER;CN="Mairie%20d%27Essarts%20en%20Bocage":MAILTO:mairie-essarts@essartsenbocage.fr
END:VEVENT
END:VCALENDAR