BEGIN:VCALENDAR
VERSION:2.0
PRODID:-//Ville Essarts-en-Bocage - ECPv4.6.1//NONSGML v1.0//EN
CALSCALE:GREGORIAN
METHOD:PUBLISH
X-WR-CALNAME:Ville Essarts-en-Bocage
X-ORIGINAL-URL:https://www.essartsenbocage.fr
X-WR-CALDESC:Events for Ville Essarts-en-Bocage
BEGIN:VEVENT
DTSTART;TZID=Europe/Paris:20211001T160000
DTEND;TZID=Europe/Paris:20211001T190000
DTSTAMP:20260425T112054
CREATED:20210305T085459Z
LAST-MODIFIED:20210325T150516Z
UID:20943-1633104000-1633114800@www.essartsenbocage.fr
SUMMARY:Marché des Saveurs
DESCRIPTION:Mangeons local et de saison ! \n  Le marché des saveurs vous accueille le vendredi\, tous les 15 jours (semaines impaires)\, sur la Place du 11 novembre 1918 (à côté de l’église-Les Essarts). \n \n
URL:https://www.essartsenbocage.fr/evenement/marche-des-saveurs-50/
LOCATION:25 Rue du Général de Gaulle\, Les Essarts\, 85140\, France
CATEGORIES:Foires et marchés
ORGANIZER;CN="Mairie%20d%27Essarts%20en%20Bocage":MAILTO:mairie-essarts@essartsenbocage.fr
END:VEVENT
END:VCALENDAR