BEGIN:VCALENDAR
VERSION:2.0
PRODID:-//Ville Essarts-en-Bocage - ECPv4.6.1//NONSGML v1.0//EN
CALSCALE:GREGORIAN
METHOD:PUBLISH
X-WR-CALNAME:Ville Essarts-en-Bocage
X-ORIGINAL-URL:https://www.essartsenbocage.fr
X-WR-CALDESC:Events for Ville Essarts-en-Bocage
BEGIN:VEVENT
DTSTART;TZID=Europe/Paris:20200925T163000
DTEND;TZID=Europe/Paris:20200925T193000
DTSTAMP:20260425T192835
CREATED:20200805T114205Z
LAST-MODIFIED:20200805T114205Z
UID:16058-1601051400-1601062200@www.essartsenbocage.fr
SUMMARY:Marché des saveurs
DESCRIPTION: \n  \nAttention\, en raison du COVID-19\, les dates du marché des saveurs sont susceptibles d’évoluer. Nous vous tenons régulièrement informés. \n  \n  \n  \n \n
URL:https://www.essartsenbocage.fr/evenement/marche-des-saveurs-44/
LOCATION:25 rue du général de Gaulle\, Les Essarts 85140\, France
CATEGORIES:Foires et marchés
ORGANIZER;CN="Mairie%20d%27Essarts%20en%20Bocage":MAILTO:mairie-essarts@essartsenbocage.fr
END:VEVENT
END:VCALENDAR