BEGIN:VCALENDAR
VERSION:2.0
PRODID:-//Ville Essarts-en-Bocage - ECPv4.6.1//NONSGML v1.0//EN
CALSCALE:GREGORIAN
METHOD:PUBLISH
X-WR-CALNAME:Ville Essarts-en-Bocage
X-ORIGINAL-URL:https://www.essartsenbocage.fr
X-WR-CALDESC:Events for Ville Essarts-en-Bocage
BEGIN:VEVENT
DTSTART;TZID=Europe/Paris:20190201T160000
DTEND;TZID=Europe/Paris:20190201T200000
DTSTAMP:20260424T233227
CREATED:20190201T093830Z
LAST-MODIFIED:20190201T094139Z
UID:9582-1549036800-1549051200@www.essartsenbocage.fr
SUMMARY:Marché des saveurs
DESCRIPTION: \n \n
URL:https://www.essartsenbocage.fr/evenement/marche-des-saveurs-18/
LOCATION:25 Rue du Général de Gaulle\, Les Essarts\, 85140\, France
CATEGORIES:Foires et marchés
ATTACH;FMTTYPE=image/jpeg:https://www.essartsenbocage.fr/wp-content/uploads/2018/10/41915442_print.jpg
ORGANIZER;CN="Mairie%20d%27Essarts%20en%20Bocage":MAILTO:mairie-essarts@essartsenbocage.fr
END:VEVENT
END:VCALENDAR