BEGIN:VCALENDAR
VERSION:2.0
PRODID:-//Ville Essarts-en-Bocage - ECPv4.6.1//NONSGML v1.0//EN
CALSCALE:GREGORIAN
METHOD:PUBLISH
X-WR-CALNAME:Ville Essarts-en-Bocage
X-ORIGINAL-URL:https://www.essartsenbocage.fr
X-WR-CALDESC:Events for Ville Essarts-en-Bocage
BEGIN:VEVENT
DTSTART;TZID=Europe/Paris:20221209T180000
DTEND;TZID=Europe/Paris:20221209T220000
DTSTAMP:20260423T145247
CREATED:20221128T082209Z
LAST-MODIFIED:20221128T082209Z
UID:38749-1670608800-1670623200@www.essartsenbocage.fr
SUMMARY:Marché de Noël du Château
DESCRIPTION: \n
URL:https://www.essartsenbocage.fr/evenement/marche-de-noel-du-chateau/
LOCATION:Rue du Vieux Château\, Les Essarts\, 85140
CATEGORIES:marché de noel
ORGANIZER;CN="La%20com%C3%A9die%20des%20r%C3%AAves":MAILTO:contact@vendee-spectacles.fr
END:VEVENT
END:VCALENDAR