BEGIN:VCALENDAR
VERSION:2.0
PRODID:-//Ville Essarts-en-Bocage - ECPv4.6.1//NONSGML v1.0//EN
CALSCALE:GREGORIAN
METHOD:PUBLISH
X-WR-CALNAME:Ville Essarts-en-Bocage
X-ORIGINAL-URL:https://www.essartsenbocage.fr
X-WR-CALDESC:Events for Ville Essarts-en-Bocage
BEGIN:VEVENT
DTSTART;TZID=Europe/Paris:20221204T143000
DTEND;TZID=Europe/Paris:20221204T193000
DTSTAMP:20260423T113350
CREATED:20220919T091844Z
LAST-MODIFIED:20220919T091844Z
UID:37759-1670164200-1670182200@www.essartsenbocage.fr
SUMMARY:Loto couleur d'automne
DESCRIPTION:
URL:https://www.essartsenbocage.fr/evenement/loto-couleur-dautomne/
LOCATION:Place de la mairie\, Essarts en Bocage\, 85140\, France
CATEGORIES:Loto
END:VEVENT
END:VCALENDAR