BEGIN:VCALENDAR
VERSION:2.0
PRODID:-//Ville Essarts-en-Bocage - ECPv4.6.1//NONSGML v1.0//EN
CALSCALE:GREGORIAN
METHOD:PUBLISH
X-WR-CALNAME:Ville Essarts-en-Bocage
X-ORIGINAL-URL:https://www.essartsenbocage.fr
X-WR-CALDESC:Events for Ville Essarts-en-Bocage
BEGIN:VEVENT
DTSTART;TZID=Europe/Paris:20190203T130000
DTEND;TZID=Europe/Paris:20190203T170000
DTSTAMP:20260425T031629
CREATED:20190201T090702Z
LAST-MODIFIED:20190201T090702Z
UID:9556-1549198800-1549213200@www.essartsenbocage.fr
SUMMARY:Loto
DESCRIPTION:
URL:https://www.essartsenbocage.fr/evenement/loto-3/
LOCATION:Place de la mairie\, Essarts en Bocage\, 85140\, France
CATEGORIES:Loto
END:VEVENT
END:VCALENDAR