BEGIN:VCALENDAR
VERSION:2.0
PRODID:-//Ville Essarts-en-Bocage - ECPv4.6.1//NONSGML v1.0//EN
CALSCALE:GREGORIAN
METHOD:PUBLISH
X-WR-CALNAME:Ville Essarts-en-Bocage
X-ORIGINAL-URL:https://www.essartsenbocage.fr
X-WR-CALDESC:Events for Ville Essarts-en-Bocage
BEGIN:VEVENT
DTSTART;TZID=Europe/Paris:20241027T140000
DTEND;TZID=Europe/Paris:20241027T140000
DTSTAMP:20260419T171035
CREATED:20240918T104318Z
LAST-MODIFIED:20241007T071416Z
UID:45308-1730037600-1730037600@www.essartsenbocage.fr
SUMMARY:LOTO - Association "C'est pour eux"
DESCRIPTION:L’association « C’est pour eux » organise un loto le dimanche 27 octobre à la salle des fêtes des Essarts. \n
URL:https://www.essartsenbocage.fr/evenement/loto-12/
LOCATION:Place de la mairie\, Essarts en Bocage\, 85140\, France
CATEGORIES:Loto
ATTACH;FMTTYPE=image/png:https://www.essartsenbocage.fr/wp-content/uploads/2022/07/LOTO-ST-FLO.png
END:VEVENT
END:VCALENDAR