BEGIN:VCALENDAR
VERSION:2.0
PRODID:-//Ville Essarts-en-Bocage - ECPv4.6.1//NONSGML v1.0//EN
CALSCALE:GREGORIAN
METHOD:PUBLISH
X-WR-CALNAME:Ville Essarts-en-Bocage
X-ORIGINAL-URL:https://www.essartsenbocage.fr
X-WR-CALDESC:Events for Ville Essarts-en-Bocage
BEGIN:VEVENT
DTSTART;TZID=Europe/Paris:20190203T080000
DTEND;TZID=Europe/Paris:20190203T170000
DTSTAMP:20260425T013043
CREATED:20190201T091321Z
LAST-MODIFIED:20190201T091356Z
UID:9560-1549180800-1549213200@www.essartsenbocage.fr
SUMMARY:La randoyenne
DESCRIPTION: \n
URL:https://www.essartsenbocage.fr/evenement/la-randoyenne/
LOCATION:Rue Du Foyer - L'Oie\, Essarts en Bocage\, 85140
CATEGORIES:Sorties
ATTACH;FMTTYPE=image/jpeg:https://www.essartsenbocage.fr/wp-content/uploads/2018/10/22583738_print.jpg
END:VEVENT
END:VCALENDAR