BEGIN:VCALENDAR
VERSION:2.0
PRODID:-//Ville Essarts-en-Bocage - ECPv4.6.1//NONSGML v1.0//EN
CALSCALE:GREGORIAN
METHOD:PUBLISH
X-WR-CALNAME:Ville Essarts-en-Bocage
X-ORIGINAL-URL:https://www.essartsenbocage.fr
X-WR-CALDESC:Events for Ville Essarts-en-Bocage
BEGIN:VEVENT
DTSTART;TZID=Europe/Paris:20241027T140000
DTEND;TZID=Europe/Paris:20241027T180000
DTSTAMP:20260419T190017
CREATED:20240925T103444Z
LAST-MODIFIED:20240925T103444Z
UID:45402-1730037600-1730052000@www.essartsenbocage.fr
SUMMARY:Journée Hand'INSPORT
DESCRIPTION: \n
URL:https://www.essartsenbocage.fr/evenement/journee-handinsport/
LOCATION:Route de Chauché\, Les Essarts\, 85140
CATEGORIES:animations,Solidarité,Sport
ORGANIZER;CN="In%20Sport":MAILTO:insport@outlook.fr
END:VEVENT
END:VCALENDAR