BEGIN:VCALENDAR
VERSION:2.0
PRODID:-//Ville Essarts-en-Bocage - ECPv4.6.1//NONSGML v1.0//EN
CALSCALE:GREGORIAN
METHOD:PUBLISH
X-WR-CALNAME:Ville Essarts-en-Bocage
X-ORIGINAL-URL:https://www.essartsenbocage.fr
X-WR-CALDESC:Events for Ville Essarts-en-Bocage
BEGIN:VEVENT
DTSTART;TZID=Europe/Paris:20221127T100000
DTEND;TZID=Europe/Paris:20221127T180000
DTSTAMP:20260423T170529
CREATED:20221109T080546Z
LAST-MODIFIED:20221109T080811Z
UID:38539-1669543200-1669572000@www.essartsenbocage.fr
SUMMARY:Journée découverte vente à domicile
DESCRIPTION:  \n
URL:https://www.essartsenbocage.fr/evenement/journee-decouverte-vente-a-domicile-2/
LOCATION:8 Place de la Mairie\, Les Essarts\, 85140\, France
CATEGORIES:animations
END:VEVENT
END:VCALENDAR