BEGIN:VCALENDAR
VERSION:2.0
PRODID:-//Ville Essarts-en-Bocage - ECPv4.6.1//NONSGML v1.0//EN
CALSCALE:GREGORIAN
METHOD:PUBLISH
X-WR-CALNAME:Ville Essarts-en-Bocage
X-ORIGINAL-URL:https://www.essartsenbocage.fr
X-WR-CALDESC:Events for Ville Essarts-en-Bocage
BEGIN:VEVENT
DTSTART;TZID=Europe/Paris:20220702T090000
DTEND;TZID=Europe/Paris:20220702T173000
DTSTAMP:20260422T055235
CREATED:20220517T091507Z
LAST-MODIFIED:20220517T091507Z
UID:34743-1656752400-1656783000@www.essartsenbocage.fr
SUMMARY:Footgolf Cup
DESCRIPTION:| TOUS PUBLICS  \nComposez votre équipes de 6 afin de passer un moment convivial sur un parcours de golf grandeur nature sur l’ensemble des Essarts en Bocage. \n15 euros par participant / 90 € par équipe \n| Inscriptions jusqu’au 30 Mai\n \n
URL:https://www.essartsenbocage.fr/evenement/footgolf-cup/
LOCATION:85140\, France
CATEGORIES:animations,Sport
ORGANIZER;CN="FC%20EBM":MAILTO:contact@fcebm.fr
END:VEVENT
END:VCALENDAR