BEGIN:VCALENDAR
VERSION:2.0
PRODID:-//Ville Essarts-en-Bocage - ECPv4.6.1//NONSGML v1.0//EN
CALSCALE:GREGORIAN
METHOD:PUBLISH
X-WR-CALNAME:Ville Essarts-en-Bocage
X-ORIGINAL-URL:https://www.essartsenbocage.fr
X-WR-CALDESC:Events for Ville Essarts-en-Bocage
BEGIN:VEVENT
DTSTART;TZID=Europe/Paris:20210616T090000
DTEND;TZID=Europe/Paris:20210616T163000
DTSTAMP:20260422T214810
CREATED:20210527T094538Z
LAST-MODIFIED:20210527T094538Z
UID:22432-1623834000-1623861000@www.essartsenbocage.fr
SUMMARY:Environ'sport
DESCRIPTION: \n
URL:https://www.essartsenbocage.fr/evenement/environsport-2/
CATEGORIES:Sport
END:VEVENT
END:VCALENDAR