BEGIN:VCALENDAR
VERSION:2.0
PRODID:-//Ville Essarts-en-Bocage - ECPv4.6.1//NONSGML v1.0//EN
CALSCALE:GREGORIAN
METHOD:PUBLISH
X-WR-CALNAME:Ville Essarts-en-Bocage
X-ORIGINAL-URL:https://www.essartsenbocage.fr
X-WR-CALDESC:Events for Ville Essarts-en-Bocage
BEGIN:VEVENT
DTSTART;TZID=Europe/Paris:20211009T203000
DTEND;TZID=Europe/Paris:20211009T230000
DTSTAMP:20260425T124249
CREATED:20210908T132741Z
LAST-MODIFIED:20211007T105639Z
UID:25088-1633811400-1633820400@www.essartsenbocage.fr
SUMMARY:Conteur ? Conteur ! de Yannick Jaulin
DESCRIPTION:Réservez ici\n  \n \n
URL:https://www.essartsenbocage.fr/evenement/conteur-conteur-de-yannick-jaulin/
CATEGORIES:spectacles
ORGANIZER;CN="Mairie%20d%27Essarts%20en%20Bocage":MAILTO:mairie-essarts@essartsenbocage.fr
END:VEVENT
END:VCALENDAR