BEGIN:VCALENDAR
VERSION:2.0
PRODID:-//Ville Essarts-en-Bocage - ECPv4.6.1//NONSGML v1.0//EN
CALSCALE:GREGORIAN
METHOD:PUBLISH
X-WR-CALNAME:Ville Essarts-en-Bocage
X-ORIGINAL-URL:https://www.essartsenbocage.fr
X-WR-CALDESC:Events for Ville Essarts-en-Bocage
BEGIN:VEVENT
DTSTART;TZID=Europe/Paris:20240930T200000
DTEND;TZID=Europe/Paris:20240930T220000
DTSTAMP:20260419T171203
CREATED:20240918T084818Z
LAST-MODIFIED:20240918T084818Z
UID:45262-1727726400-1727733600@www.essartsenbocage.fr
SUMMARY:Conseil Municipal
DESCRIPTION:Séance du Conseil Municipal  \nOuvert à tous – tout public. À la salle du conseil. \n
URL:https://www.essartsenbocage.fr/evenement/conseil-municipal-6/
LOCATION:51 rue Georges Clemenceau\, Essarts-en-Bocage\, Vendée\, 85140\, France
CATEGORIES:Conseil Municipal
ATTACH;FMTTYPE=image/jpeg:https://www.essartsenbocage.fr/wp-content/uploads/2024/04/FRP7063.jpg
ORGANIZER;CN="Mairie%20d%27Essarts%20en%20Bocage":MAILTO:mairie-essarts@essartsenbocage.fr
END:VEVENT
END:VCALENDAR