BEGIN:VCALENDAR
VERSION:2.0
PRODID:-//Ville Essarts-en-Bocage - ECPv4.6.1//NONSGML v1.0//EN
CALSCALE:GREGORIAN
METHOD:PUBLISH
X-WR-CALNAME:Ville Essarts-en-Bocage
X-ORIGINAL-URL:https://www.essartsenbocage.fr
X-WR-CALDESC:Events for Ville Essarts-en-Bocage
BEGIN:VEVENT
DTSTART;TZID=Europe/Paris:20240701T200000
DTEND;TZID=Europe/Paris:20240701T220000
DTSTAMP:20260419T205511
CREATED:20240422T072526Z
LAST-MODIFIED:20240422T072526Z
UID:43873-1719864000-1719871200@www.essartsenbocage.fr
SUMMARY:Conseil Municipal
DESCRIPTION:Séance du Conseil Municipal \nOuvert à tous – tout public. \n
URL:https://www.essartsenbocage.fr/evenement/conseil-municipal-3/
LOCATION:51 rue Georges Clemenceau\, Essarts-en-Bocage\, Vendée\, 85140\, France
CATEGORIES:Conseil Municipal
ATTACH;FMTTYPE=image/jpeg:https://www.essartsenbocage.fr/wp-content/uploads/2024/04/FRP7063.jpg
ORGANIZER;CN="Mairie%20d%27Essarts%20en%20Bocage":MAILTO:mairie-essarts@essartsenbocage.fr
END:VEVENT
END:VCALENDAR