BEGIN:VCALENDAR
VERSION:2.0
PRODID:-//Ville Essarts-en-Bocage - ECPv4.6.1//NONSGML v1.0//EN
CALSCALE:GREGORIAN
METHOD:PUBLISH
X-WR-CALNAME:Ville Essarts-en-Bocage
X-ORIGINAL-URL:https://www.essartsenbocage.fr
X-WR-CALDESC:Events for Ville Essarts-en-Bocage
BEGIN:VEVENT
DTSTART;TZID=Europe/Paris:20191005T200000
DTEND;TZID=Europe/Paris:20191005T233000
DTSTAMP:20260421T105144
CREATED:20190710T102506Z
LAST-MODIFIED:20190710T102509Z
UID:10497-1570305600-1570318200@www.essartsenbocage.fr
SUMMARY:Concert Les Fouteurs de Joie
DESCRIPTION: \nBilletterie en ligne : Cliquez ici \n  \n
URL:https://www.essartsenbocage.fr/evenement/concert-les-fouteurs-de-joie/
LOCATION:5 Rue du Foyer Rural\, Essarts en Bocage\, 85140\, France
CATEGORIES:Concerts
ORGANIZER;CN="Mairie%20d%27Essarts%20en%20Bocage":MAILTO:mairie-essarts@essartsenbocage.fr
END:VEVENT
END:VCALENDAR