BEGIN:VCALENDAR
VERSION:2.0
PRODID:-//Ville Essarts-en-Bocage - ECPv4.6.1//NONSGML v1.0//EN
CALSCALE:GREGORIAN
METHOD:PUBLISH
X-WR-CALNAME:Ville Essarts-en-Bocage
X-ORIGINAL-URL:https://www.essartsenbocage.fr
X-WR-CALDESC:Events for Ville Essarts-en-Bocage
BEGIN:VEVENT
DTSTART;TZID=Europe/Paris:20220701T190000
DTEND;TZID=Europe/Paris:20220701T220000
DTSTAMP:20260422T035100
CREATED:20220622T081821Z
LAST-MODIFIED:20220622T081821Z
UID:35911-1656702000-1656712800@www.essartsenbocage.fr
SUMMARY:Concert école de musique
DESCRIPTION: \n
URL:https://www.essartsenbocage.fr/evenement/concert-ecole-de-musique/
LOCATION:1 rue Armand de Rougé\, Les Essarts\, 85140\, France
CATEGORIES:Concerts
ATTACH;FMTTYPE=image/jpeg:https://www.essartsenbocage.fr/wp-content/uploads/2022/06/ame1.jpg
END:VEVENT
END:VCALENDAR