BEGIN:VCALENDAR
VERSION:2.0
PRODID:-//Ville Essarts-en-Bocage - ECPv4.6.1//NONSGML v1.0//EN
CALSCALE:GREGORIAN
METHOD:PUBLISH
X-WR-CALNAME:Ville Essarts-en-Bocage
X-ORIGINAL-URL:https://www.essartsenbocage.fr
X-WR-CALDESC:Events for Ville Essarts-en-Bocage
BEGIN:VEVENT
DTSTART;TZID=Europe/Paris:20211008T203000
DTEND;TZID=Europe/Paris:20211008T230000
DTSTAMP:20260425T110028
CREATED:20210908T133306Z
LAST-MODIFIED:20210908T133504Z
UID:25093-1633725000-1633734000@www.essartsenbocage.fr
SUMMARY:Catch Impro par les Z'Improbables
DESCRIPTION: \n
URL:https://www.essartsenbocage.fr/evenement/catch-impro-par-les-zimprobables/
LOCATION:Place de la mairie\, Essarts en Bocage\, 85140\, France
CATEGORIES:spectacles
ORGANIZER;CN="Mairie%20d%27Essarts%20en%20Bocage":MAILTO:mairie-essarts@essartsenbocage.fr
END:VEVENT
END:VCALENDAR