BEGIN:VCALENDAR
VERSION:2.0
PRODID:-//Ville Essarts-en-Bocage - ECPv4.6.1//NONSGML v1.0//EN
CALSCALE:GREGORIAN
METHOD:PUBLISH
X-WR-CALNAME:Ville Essarts-en-Bocage
X-ORIGINAL-URL:https://www.essartsenbocage.fr
X-WR-CALDESC:Events for Ville Essarts-en-Bocage
BEGIN:VEVENT
DTSTART;TZID=Europe/Paris:20240830T190000
DTEND;TZID=Europe/Paris:20240830T230000
DTSTAMP:20260419T171153
CREATED:20240827T102857Z
LAST-MODIFIED:20240827T103300Z
UID:45051-1725044400-1725058800@www.essartsenbocage.fr
SUMMARY:Boul'zic
DESCRIPTION: \n
URL:https://www.essartsenbocage.fr/evenement/boulzic-2/
LOCATION:Place de l'Eglise - Boulogne\, Essarts en Bocage\, 85140\, France
CATEGORIES:Concerts
END:VEVENT
END:VCALENDAR