BEGIN:VCALENDAR
VERSION:2.0
PRODID:-//Ville Essarts-en-Bocage - ECPv4.6.1//NONSGML v1.0//EN
CALSCALE:GREGORIAN
METHOD:PUBLISH
X-WR-CALNAME:Ville Essarts-en-Bocage
X-ORIGINAL-URL:https://www.essartsenbocage.fr
X-WR-CALDESC:Events for Ville Essarts-en-Bocage
BEGIN:VEVENT
DTSTART;TZID=Europe/Paris:20240928T103000
DTEND;TZID=Europe/Paris:20240928T113000
DTSTAMP:20260419T190012
CREATED:20240918T082430Z
LAST-MODIFIED:20240918T082430Z
UID:45252-1727519400-1727523000@www.essartsenbocage.fr
SUMMARY:Atelier de sophrologie
DESCRIPTION:La médiathèque de Boulogne vous propose un atelier sophrologie avec le sophrologue Thierry Loussouarn. GRATUIT sur réservation au 02 51 62 99 87 ou par mail mediatheque-essarts@essartsenbocage.fr. \n \n
URL:https://www.essartsenbocage.fr/evenement/atelier-de-sophrologie/
CATEGORIES:animations,Loisirs,Médiathèque
ORGANIZER;CN="M%C3%A9diath%C3%A8que%20des%20Essarts":MAILTO:mediatheque-boulogne@essartsenbocage.fr
END:VEVENT
END:VCALENDAR