BEGIN:VCALENDAR
VERSION:2.0
PRODID:-//Ville Essarts-en-Bocage - ECPv4.6.1//NONSGML v1.0//EN
CALSCALE:GREGORIAN
METHOD:PUBLISH
X-WR-CALNAME:Ville Essarts-en-Bocage
X-ORIGINAL-URL:https://www.essartsenbocage.fr
X-WR-CALDESC:Events for Ville Essarts-en-Bocage
BEGIN:VEVENT
DTSTART;TZID=Europe/Paris:20251216T110000
DTEND;TZID=Europe/Paris:20251216T123000
DTSTAMP:20260419T173942
CREATED:20250923T101927Z
LAST-MODIFIED:20250923T101927Z
UID:59374-1765882800-1765888200@www.essartsenbocage.fr
SUMMARY:Bouger avec le sport adapté
DESCRIPTION: \n
URL:https://www.essartsenbocage.fr/evenement/bouger-avec-le-sport-adapte-40/
LOCATION:Route de Chauché\, Les Essarts\, 85140\, France
CATEGORIES:Sport
END:VEVENT
END:VCALENDAR