BEGIN:VCALENDAR
VERSION:2.0
PRODID:-//Ville Essarts-en-Bocage - ECPv4.6.1//NONSGML v1.0//EN
CALSCALE:GREGORIAN
METHOD:PUBLISH
X-WR-CALNAME:Ville Essarts-en-Bocage
X-ORIGINAL-URL:https://www.essartsenbocage.fr
X-WR-CALDESC:Events for Ville Essarts-en-Bocage
BEGIN:VEVENT
DTSTART;TZID=Europe/Paris:20251014T110000
DTEND;TZID=Europe/Paris:20251014T123000
DTSTAMP:20260419T213759
CREATED:20250415T101646Z
LAST-MODIFIED:20250415T101646Z
UID:57679-1760439600-1760445000@www.essartsenbocage.fr
SUMMARY:Bouger avec le sport adapté
DESCRIPTION: \n
URL:https://www.essartsenbocage.fr/evenement/bouger-avec-le-sport-adapte-32/
LOCATION:Route de Chauché\, Les Essarts\, 85140\, France
CATEGORIES:animations,Sorties,Sport
END:VEVENT
END:VCALENDAR