BEGIN:VCALENDAR
VERSION:2.0
PRODID:-//Ville Essarts-en-Bocage - ECPv4.6.1//NONSGML v1.0//EN
CALSCALE:GREGORIAN
METHOD:PUBLISH
X-WR-CALNAME:Ville Essarts-en-Bocage
X-ORIGINAL-URL:https://www.essartsenbocage.fr
X-WR-CALDESC:Events for Ville Essarts-en-Bocage
BEGIN:VEVENT
DTSTART;TZID=Europe/Paris:20251005T094500
DTEND;TZID=Europe/Paris:20251005T120000
DTSTAMP:20260419T213759
CREATED:20250926T133221Z
LAST-MODIFIED:20250926T133311Z
UID:59479-1759657500-1759665600@www.essartsenbocage.fr
SUMMARY:La Joséphine aux Essarts
DESCRIPTION: \n
URL:https://www.essartsenbocage.fr/evenement/la-josephine-aux-essarts/
LOCATION:85140
CATEGORIES:Solidarité,Sport
END:VEVENT
END:VCALENDAR