BEGIN:VCALENDAR
VERSION:2.0
PRODID:-//Ville Essarts-en-Bocage - ECPv4.6.1//NONSGML v1.0//EN
CALSCALE:GREGORIAN
METHOD:PUBLISH
X-WR-CALNAME:Ville Essarts-en-Bocage
X-ORIGINAL-URL:https://www.essartsenbocage.fr
X-WR-CALDESC:Events for Ville Essarts-en-Bocage
BEGIN:VEVENT
DTSTART;TZID=Europe/Paris:20250603T110000
DTEND;TZID=Europe/Paris:20250603T123000
DTSTAMP:20260421T141219
CREATED:20250414T130210Z
LAST-MODIFIED:20250414T130210Z
UID:57608-1748948400-1748953800@www.essartsenbocage.fr
SUMMARY:Bouger avec le sport adapté
DESCRIPTION: \n
URL:https://www.essartsenbocage.fr/evenement/bouger-avec-le-sport-adapte-23/
LOCATION:Route de Chauché\, Les Essarts\, 85140\, France
CATEGORIES:animations,Solidarité,Sport
END:VEVENT
END:VCALENDAR