BEGIN:VCALENDAR
VERSION:2.0
PRODID:-//Ville Essarts-en-Bocage - ECPv4.6.1//NONSGML v1.0//EN
CALSCALE:GREGORIAN
METHOD:PUBLISH
X-WR-CALNAME:Ville Essarts-en-Bocage
X-ORIGINAL-URL:https://www.essartsenbocage.fr
X-WR-CALDESC:Events for Ville Essarts-en-Bocage
BEGIN:VEVENT
DTSTART;TZID=Europe/Paris:20250527T110000
DTEND;TZID=Europe/Paris:20250527T123000
DTSTAMP:20260421T141340
CREATED:20250331T101432Z
LAST-MODIFIED:20250331T101432Z
UID:57323-1748343600-1748349000@www.essartsenbocage.fr
SUMMARY:Bouger avec le sport adapté
DESCRIPTION: \n
URL:https://www.essartsenbocage.fr/evenement/bouger-avec-le-sport-adapte-22/
LOCATION:Route de Chauché\, Les Essarts\, 85140\, France
CATEGORIES:Loisirs,Sorties,Sport
END:VEVENT
END:VCALENDAR