BEGIN:VCALENDAR
VERSION:2.0
PRODID:-//Ville Essarts-en-Bocage - ECPv4.6.1//NONSGML v1.0//EN
CALSCALE:GREGORIAN
METHOD:PUBLISH
X-WR-CALNAME:Ville Essarts-en-Bocage
X-ORIGINAL-URL:https://www.essartsenbocage.fr
X-WR-CALDESC:Events for Ville Essarts-en-Bocage
BEGIN:VEVENT
DTSTART;VALUE=DATE:20250525
DTEND;VALUE=DATE:20250526
DTSTAMP:20260421T155146
CREATED:20250414T125628Z
LAST-MODIFIED:20250414T125728Z
UID:57606-1748131200-1748217599@www.essartsenbocage.fr
SUMMARY:Championnat Vélo U15-U17
DESCRIPTION:Venez encourager les jeunes talents du cyclisme vendéen lors du championnat départemental U15-U17. Au programme : contre la montre individuel le matin et course l’après-midi. \n
URL:https://www.essartsenbocage.fr/evenement/championnat-velo-u15-u17/
CATEGORIES:Manifestation sportive,Sport
ATTACH;FMTTYPE=image/jpeg:https://www.essartsenbocage.fr/wp-content/uploads/2025/01/7178802.jpg
END:VEVENT
END:VCALENDAR