BEGIN:VCALENDAR
VERSION:2.0
PRODID:-//Ville Essarts-en-Bocage - ECPv4.6.1//NONSGML v1.0//EN
CALSCALE:GREGORIAN
METHOD:PUBLISH
X-WR-CALNAME:Ville Essarts-en-Bocage
X-ORIGINAL-URL:https://www.essartsenbocage.fr
X-WR-CALDESC:Events for Ville Essarts-en-Bocage
BEGIN:VEVENT
DTSTART;TZID=Europe/Paris:20250508T100000
DTEND;TZID=Europe/Paris:20250508T210000
DTSTAMP:20260421T160828
CREATED:20250414T122506Z
LAST-MODIFIED:20250414T122506Z
UID:57595-1746698400-1746738000@www.essartsenbocage.fr
SUMMARY:Tournoi OPEN Start 3 x 3 basket
DESCRIPTION: \n
URL:https://www.essartsenbocage.fr/evenement/tournoi-open-start-3-x-3-basket/
CATEGORIES:Manifestation sportive,Sorties,Sport
ORGANIZER;CN="BC%20EBM":MAILTO:bbebmb85@gmail.com
END:VEVENT
END:VCALENDAR