BEGIN:VCALENDAR
VERSION:2.0
PRODID:-//Ville Essarts-en-Bocage - ECPv4.6.1//NONSGML v1.0//EN
CALSCALE:GREGORIAN
METHOD:PUBLISH
X-WR-CALNAME:Ville Essarts-en-Bocage
X-ORIGINAL-URL:https://www.essartsenbocage.fr
X-WR-CALDESC:Events for Ville Essarts-en-Bocage
BEGIN:VEVENT
DTSTART;TZID=Europe/Paris:20250422T110000
DTEND;TZID=Europe/Paris:20250422T123000
DTSTAMP:20260421T173233
CREATED:20250121T101359Z
LAST-MODIFIED:20250121T101359Z
UID:46944-1745319600-1745325000@www.essartsenbocage.fr
SUMMARY:Bouger avec le sport adapté
DESCRIPTION:Participez à une séance de sport adapté organisée par le Secours Catholique\, mardi 22 avril de 11h à 12h30\, au complexe sportif des Essarts. \n
URL:https://www.essartsenbocage.fr/evenement/bouger-avec-le-sport-adapte-17/
LOCATION:Route de Chauché\, Les Essarts\, 85140\, France
CATEGORIES:Sorties,Sport
END:VEVENT
END:VCALENDAR