BEGIN:VCALENDAR
VERSION:2.0
PRODID:-//Ville Essarts-en-Bocage - ECPv4.6.1//NONSGML v1.0//EN
CALSCALE:GREGORIAN
METHOD:PUBLISH
X-WR-CALNAME:Ville Essarts-en-Bocage
X-ORIGINAL-URL:https://www.essartsenbocage.fr
X-WR-CALDESC:Events for Ville Essarts-en-Bocage
BEGIN:VEVENT
DTSTART;TZID=Europe/Paris:20250413T140000
DTEND;TZID=Europe/Paris:20250413T180000
DTSTAMP:20260421T173232
CREATED:20250331T081237Z
LAST-MODIFIED:20250331T081237Z
UID:57284-1744552800-1744567200@www.essartsenbocage.fr
SUMMARY:1/4 finales coupe Vendée Basket
DESCRIPTION: \n
URL:https://www.essartsenbocage.fr/evenement/14-finales-coupe-vendee-basket/
LOCATION:Route de Chauché\, Les Essarts\, 85140\, France
CATEGORIES:Sorties,Sport
ORGANIZER;CN="BC%20EBM":MAILTO:bbebmb85@gmail.com
END:VEVENT
END:VCALENDAR