BEGIN:VCALENDAR
VERSION:2.0
PRODID:-//Ville Essarts-en-Bocage - ECPv4.6.1//NONSGML v1.0//EN
CALSCALE:GREGORIAN
METHOD:PUBLISH
X-WR-CALNAME:Ville Essarts-en-Bocage
X-ORIGINAL-URL:https://www.essartsenbocage.fr
X-WR-CALDESC:Events for Ville Essarts-en-Bocage
BEGIN:VEVENT
DTSTART;TZID=Europe/Paris:20250315T133000
DTEND;TZID=Europe/Paris:20250315T133000
DTSTAMP:20260421T190738
CREATED:20250121T084345Z
LAST-MODIFIED:20250121T084345Z
UID:46895-1742045400-1742045400@www.essartsenbocage.fr
SUMMARY:Tournoi de palets de la Saint-Patrick
DESCRIPTION: \n
URL:https://www.essartsenbocage.fr/evenement/tournoi-de-palets-de-la-saint-patrick/
LOCATION:Route de Chauché\, Les Essarts\, 85140\, France
CATEGORIES:Loisirs,Sorties,Sport
ORGANIZER;CN="Pays%20des%20Essarts%20Handball":MAILTO:paysdesessartshandball@gmail.com
END:VEVENT
END:VCALENDAR