BEGIN:VCALENDAR
VERSION:2.0
PRODID:-//Ville Essarts-en-Bocage - ECPv4.6.1//NONSGML v1.0//EN
CALSCALE:GREGORIAN
METHOD:PUBLISH
X-WR-CALNAME:Ville Essarts-en-Bocage
X-ORIGINAL-URL:https://www.essartsenbocage.fr
X-WR-CALDESC:Events for Ville Essarts-en-Bocage
BEGIN:VEVENT
DTSTART;TZID=Europe/Paris:20241217T110000
DTEND;TZID=Europe/Paris:20241217T123000
DTSTAMP:20260422T003907
CREATED:20241030T090353Z
LAST-MODIFIED:20241030T090353Z
UID:45886-1734433200-1734438600@www.essartsenbocage.fr
SUMMARY:Bouger avec le sport adapté
DESCRIPTION:Participez à « Bouger avec le sport adapté » le 17 décembre de 11h00 à 12h30 au complexe sportif des Essarts. Une activité inclusive par le Secours Catholique ! \n \n  \n
URL:https://www.essartsenbocage.fr/evenement/bouger-avec-le-sport-adapte-4/
LOCATION:Route de Chauché\, Les Essarts\, 85140\, France
CATEGORIES:Solidarité,Sport
END:VEVENT
END:VCALENDAR