BEGIN:VCALENDAR
VERSION:2.0
PRODID:-//Ville Essarts-en-Bocage - ECPv4.6.1//NONSGML v1.0//EN
CALSCALE:GREGORIAN
METHOD:PUBLISH
X-WR-CALNAME:Ville Essarts-en-Bocage
X-ORIGINAL-URL:https://www.essartsenbocage.fr
X-WR-CALDESC:Events for Ville Essarts-en-Bocage
BEGIN:VEVENT
DTSTART;TZID=Europe/Paris:20241119T110000
DTEND;TZID=Europe/Paris:20241119T123000
DTSTAMP:20260422T023607
CREATED:20241026T213122Z
LAST-MODIFIED:20241026T213122Z
UID:45805-1732014000-1732019400@www.essartsenbocage.fr
SUMMARY:Bouger avec le sport adapté
DESCRIPTION:Le Secours Catholique propose une nouvelle session de « Bouger avec le sport adapté » le 19 novembre 2024\, de 11h à 12h30 au Complexe Sportif des Essarts. Ce programme permet aux participants de tous âges et capacités de profiter d’une activité physique adaptée\, dans un cadre bienveillant et convivial. Venez bouger\, vous amuser et partager un moment sportif inclusif et accessible à tous ! \n
URL:https://www.essartsenbocage.fr/evenement/bouger-avec-le-sport-adapte-2/
LOCATION:Route de Chauché\, Les Essarts\, 85140\, France
CATEGORIES:Solidarité,Sorties,Sport
ATTACH;FMTTYPE=image/jpeg:https://www.essartsenbocage.fr/wp-content/uploads/2024/10/medium-shot-man-holding-basket-ball.jpg
END:VEVENT
END:VCALENDAR