BEGIN:VCALENDAR
VERSION:2.0
PRODID:-//Ville Essarts-en-Bocage - ECPv4.6.1//NONSGML v1.0//EN
CALSCALE:GREGORIAN
METHOD:PUBLISH
X-WR-CALNAME:Ville Essarts-en-Bocage
X-ORIGINAL-URL:https://www.essartsenbocage.fr
X-WR-CALDESC:Events for Ville Essarts-en-Bocage
BEGIN:VEVENT
DTSTART;TZID=Europe/Paris:20241020T100000
DTEND;TZID=Europe/Paris:20241020T100000
DTSTAMP:20260422T043305
CREATED:20240925T075517Z
LAST-MODIFIED:20240925T075517Z
UID:45391-1729418400-1729418400@www.essartsenbocage.fr
SUMMARY:Cyclo-cross "Grand Prix Fernandez"
DESCRIPTION:Le Vélo Club Essartais organise son traditionnel cyclo-cross « Grand Prix Fernandez » à Pied de Frais aux Essarts en Bocage le dimanche 20 octobre 2024 toute la journée. Bar et restauration sur place. \n  \n \n
URL:https://www.essartsenbocage.fr/evenement/cyclo-cross-grand-prix-fernandez/
LOCATION:Les Essarts\, 85140\, France
CATEGORIES:Loisirs,Sport
END:VEVENT
END:VCALENDAR