BEGIN:VCALENDAR
VERSION:2.0
PRODID:-//Ville Essarts-en-Bocage - ECPv4.6.1//NONSGML v1.0//EN
CALSCALE:GREGORIAN
METHOD:PUBLISH
X-WR-CALNAME:Ville Essarts-en-Bocage
X-ORIGINAL-URL:https://www.essartsenbocage.fr
X-WR-CALDESC:Events for Ville Essarts-en-Bocage
BEGIN:VEVENT
DTSTART;TZID=Europe/Paris:20221127T083000
DTEND;TZID=Europe/Paris:20221127T093000
DTSTAMP:20260423T215250
CREATED:20221109T081721Z
LAST-MODIFIED:20221109T081721Z
UID:38544-1669537800-1669541400@www.essartsenbocage.fr
SUMMARY:Grande matinée sportive au profit du téléthon
DESCRIPTION: \n
URL:https://www.essartsenbocage.fr/evenement/grande-matinee-sportive-au-profit-du-telethon/
LOCATION:Rue du Foyer Rural\, Essarts en Bocage\, 85140\, France
CATEGORIES:Solidarité,Sport
END:VEVENT
END:VCALENDAR