BEGIN:VCALENDAR
VERSION:2.0
PRODID:-//Ville Essarts-en-Bocage - ECPv4.6.1//NONSGML v1.0//EN
CALSCALE:GREGORIAN
METHOD:PUBLISH
X-WR-CALNAME:Ville Essarts-en-Bocage
X-ORIGINAL-URL:https://www.essartsenbocage.fr
X-WR-CALDESC:Events for Ville Essarts-en-Bocage
BEGIN:VEVENT
DTSTART;TZID=Europe/Paris:20220529T090000
DTEND;TZID=Europe/Paris:20220529T160000
DTSTAMP:20260424T090646
CREATED:20220527T064102Z
LAST-MODIFIED:20220527T064102Z
UID:34922-1653814800-1653840000@www.essartsenbocage.fr
SUMMARY:Finales départementales
DESCRIPTION:Le club Sainte-Florence / Vendrennes Tennis de Table organise les finales départementales par équipes séniores. \nCette compétition réunira les meilleures équipes vendéennes de leur division\, soit plus de 130 jours.  \n \n
URL:https://www.essartsenbocage.fr/evenement/finales-departementales/
LOCATION:Rue du Foyer Rural\, Essarts en Bocage\, 85140\, France
CATEGORIES:Concours,Sport
END:VEVENT
END:VCALENDAR