BEGIN:VCALENDAR
VERSION:2.0
PRODID:-//Ville Essarts-en-Bocage - ECPv4.6.1//NONSGML v1.0//EN
CALSCALE:GREGORIAN
METHOD:PUBLISH
X-WR-CALNAME:Ville Essarts-en-Bocage
X-ORIGINAL-URL:https://www.essartsenbocage.fr
X-WR-CALDESC:Events for Ville Essarts-en-Bocage
BEGIN:VEVENT
DTSTART;TZID=Europe/Paris:20220423T153000
DTEND;TZID=Europe/Paris:20220423T190000
DTSTAMP:20260424T105132
CREATED:20220314T145127Z
LAST-MODIFIED:20220314T145127Z
UID:31958-1650727800-1650740400@www.essartsenbocage.fr
SUMMARY:Tournoi de Badminton
DESCRIPTION: \n
URL:https://www.essartsenbocage.fr/evenement/tournoi-de-badminton/
LOCATION:place des anciens combattants\, Essarts en Bocage\, 85140\, France
CATEGORIES:Sport
END:VEVENT
END:VCALENDAR