BEGIN:VCALENDAR
VERSION:2.0
PRODID:-//Ville Essarts-en-Bocage - ECPv4.6.1//NONSGML v1.0//EN
CALSCALE:GREGORIAN
METHOD:PUBLISH
X-WR-CALNAME:Ville Essarts-en-Bocage
X-ORIGINAL-URL:https://www.essartsenbocage.fr
X-WR-CALDESC:Events for Ville Essarts-en-Bocage
BEGIN:VEVENT
DTSTART;TZID=Europe/Paris:20200916T090000
DTEND;TZID=Europe/Paris:20200916T170000
DTSTAMP:20260425T191918
CREATED:20200913T200134Z
LAST-MODIFIED:20200913T200213Z
UID:16758-1600246800-1600275600@www.essartsenbocage.fr
SUMMARY:INITIATIONS BASKET ?
DESCRIPTION: \n
URL:https://www.essartsenbocage.fr/evenement/initiations-basket-%f0%9f%8f%80/
CATEGORIES:Sport
END:VEVENT
END:VCALENDAR