BEGIN:VCALENDAR
VERSION:2.0
PRODID:-//Ville Essarts-en-Bocage - ECPv4.6.1//NONSGML v1.0//EN
CALSCALE:GREGORIAN
METHOD:PUBLISH
X-WR-CALNAME:Ville Essarts-en-Bocage
X-ORIGINAL-URL:https://www.essartsenbocage.fr
X-WR-CALDESC:Events for Ville Essarts-en-Bocage
BEGIN:VEVENT
DTSTART;TZID=Europe/Paris:20260302T143000
DTEND;TZID=Europe/Paris:20260302T160000
DTSTAMP:20260421T172939
CREATED:20260224T160217Z
LAST-MODIFIED:20260224T160217Z
UID:61255-1772461800-1772467200@www.essartsenbocage.fr
SUMMARY:Conférence autour de l'alimentation "Echangeons sur les idées reçues"
DESCRIPTION:  \n
URL:https://www.essartsenbocage.fr/evenement/conference-autour-de-lalimentation-echangeons-sur-les-idees-recues/
LOCATION:18 espace commercial des Arcades\, Saint-Fulgent
CATEGORIES:Repas,Santé,Solidarité
END:VEVENT
END:VCALENDAR