BEGIN:VCALENDAR
VERSION:2.0
PRODID:-//Ville Essarts-en-Bocage - ECPv4.6.1//NONSGML v1.0//EN
CALSCALE:GREGORIAN
METHOD:PUBLISH
X-WR-CALNAME:Ville Essarts-en-Bocage
X-ORIGINAL-URL:https://www.essartsenbocage.fr
X-WR-CALDESC:Events for Ville Essarts-en-Bocage
BEGIN:VEVENT
DTSTART;TZID=Europe/Paris:20260512T091500
DTEND;TZID=Europe/Paris:20260512T121500
DTSTAMP:20260419T190826
CREATED:20260210T113252Z
LAST-MODIFIED:20260210T113252Z
UID:61015-1778577300-1778588100@www.essartsenbocage.fr
SUMMARY:Atelier "Une vie devant nous"
DESCRIPTION:  \n
URL:https://www.essartsenbocage.fr/evenement/atelier-une-vie-devant-nous-5/
CATEGORIES:Seniors
ORGANIZER;CN="CIAS%20Saint%20Fulgent":MAILTO:prevention@ciasfulgent-essarts.fr
END:VEVENT
END:VCALENDAR